BEGIN:VCALENDAR
VERSION:2.0
PRODID:-//ChamberMaster//Event Calendar 2.0//EN
METHOD:PUBLISH
X-PUBLISHED-TTL:P3D
REFRESH-INTERVAL:P3D
CALSCALE:GREGORIAN
BEGIN:VEVENT
DTSTART:20130827T150000Z
DTEND:20130901T210000Z
X-MICROSOFT-CDO-ALLDAYEVENT:FALSE
SUMMARY:KACC Exhibits
DESCRIPTION:***Cecil & Garrett**"Fiber Art of the World"**Images. For addtional  \n\n		information please call 830-895-2911 or visit http://www.kacckerrville.com.Kerr Arts & Cultural Center\, 228 Earl Garrett St.
X-ALT-DESC;FMTTYPE=text/html:<div style="color: gray">\n	<p class="Paragraph SCX18200495" paraeid="{09824822-e336-4b55-a542-5db158c60902}{160}" paraid="2007090029" style="text-align: left\; background-color: transparent\; font-style: normal\; text-indent: 0px\; font-family: 'Segoe UI'\, Tahoma\, Verdana\, 'Sans-Serif'\; color: windowtext\; font-size: 6pt\; vertical-align: baseline\; font-weight: normal">\n		<span class="TextRun SCX18200495" style="line-height: 19px\; font-family: Cambria\, Serif\; font-size: 12pt" xml:lang="EN-US"><span class="NormalTextRun SCX18200495" style="background-color: inherit">*</span></span><span class="TextRun SCX18200495" style="line-height: 19px\; font-family: Cambria\, Serif\; font-size: 12pt" xml:lang="EN-US"><span class="NormalTextRun SCX18200495" style="background-color: inherit">**Cecil &amp\; Garrett**&quot\;Fiber Art of the World&quot\;**Images. For </span><span class="SpellingError SCX18200495" style="background-color: inherit">addtional</span><span class="NormalTextRun SCX18200495" style="background-color: inherit">&nbsp\;</span></span><span class="LineBreakBlob BlobObject SCX18200495" style="line-height: 19px\; font-family: Cambria\, Serif\; font-size: 12pt"><span class="SCX18200495">&nbsp\;</span></span><br class="SCX18200495" />\n		<span class="TextRun SCX18200495" style="line-height: 19px\; font-family: Cambria\, Serif\; font-size: 12pt" xml:lang="EN-US"><span class="NormalTextRun SCX18200495" style="background-color: inherit">information please call 830-895-2911 or visit </span></span><a class="Hyperlink SCX18200495" href="http://www.kacckerrville.com/" style="text-decoration: none"><span class="TextRun Underlined SCX18200495" style="line-height: 19px\; font-family: Cambria\, Serif\; color: #0000ff\; font-size: 12pt\; text-decoration: underline" xml:lang="EN-US"><span class="NormalTextRun SCX18200495" style="background-color: inherit">http://www.kacckerrville.com</span></span></a><span class="TextRun SCX18200495" style="line-height: 18px\; font-family: Calibri\, Sans-Serif\; font-size: 11pt" xml:lang="EN-US"><span class="NormalTextRun SCX18200495" style="background-color: inherit">.</span></span><span class="TextRun SCX18200495" style="line-height: 19px\; font-family: Cambria\, Serif\; font-size: 12pt" xml:lang="EN-US"><span class="NormalTextRun SCX18200495" style="background-color: inherit">Kerr Arts &amp\; Cultural Center\, 228 Earl Garrett St.</span></span><span class="EOP SCX18200495" style="line-height: 19px\; font-family: Cambria\, Serif\; font-size: 12pt">&nbsp\;</span></p>\n</div>\n
LOCATION:
UID:e.1327.1008
SEQUENCE:3
DTSTAMP:20260419T163612Z
URL:https://business.kerrvillechamber.biz/events/details/kacc-exhibits-08-27-2013-1008
END:VEVENT

END:VCALENDAR
