BEGIN:VCALENDAR
VERSION:2.0
PRODID:-//ChamberMaster//Event Calendar 2.0//EN
METHOD:PUBLISH
X-PUBLISHED-TTL:P3D
REFRESH-INTERVAL:P3D
CALSCALE:GREGORIAN
BEGIN:VEVENT
DTSTART:20130702T150000Z
DTEND:20130728T210000Z
X-MICROSOFT-CDO-ALLDAYEVENT:FALSE
SUMMARY:KACC Exhibits The Art of Automotive Design
DESCRIPTION:KACC Exhibits Donald E. Hood "The Art of Automotive Design"\n\nOriginal artwork from Detroit Automotive Design Studios.
X-ALT-DESC;FMTTYPE=text/html:KACC Exhibits Donald E. Hood &quot\;The Art of Automotive Design&quot\;<br />\nOriginal artwork from Detroit Automotive Design Studios.
LOCATION:Kerr Arts & Cultural Center\, 228 Earl Garrett
UID:e.1327.987
SEQUENCE:3
DTSTAMP:20260419T195506Z
URL:https://business.kerrvillechamber.biz/events/details/kacc-exhibits-the-art-of-automotive-design-07-02-2013-987
END:VEVENT

END:VCALENDAR
