BEGIN:VCALENDAR
VERSION:2.0
PRODID:-//ChamberMaster//Event Calendar 2.0//EN
METHOD:PUBLISH
X-PUBLISHED-TTL:P3D
REFRESH-INTERVAL:P3D
CALSCALE:GREGORIAN
BEGIN:VEVENT
DTSTART:20130510T150000Z
DTEND:20130519T210000Z
X-MICROSOFT-CDO-ALLDAYEVENT:FALSE
SUMMARY:KACC Glass Invitational
DESCRIPTION:KACC Glass Invitational.  Glass Artists from all over Texas exhibit their work.
X-ALT-DESC;FMTTYPE=text/html:KACC Glass&nbsp\;Invitational.&nbsp\; Glass Artists from all over Texas exhibit their work.
LOCATION:Kerr Arts & Cultural Center\, 228 Earl Garrett St. Kerrville\, Texas
UID:e.1327.917
SEQUENCE:3
DTSTAMP:20260419T213229Z
URL:https://business.kerrvillechamber.biz/events/details/kacc-glass-invitational-05-10-2013-917
END:VEVENT

END:VCALENDAR
