BEGIN:VCALENDAR
VERSION:2.0
PRODID:-//ChamberMaster//Event Calendar 2.0//EN
METHOD:PUBLISH
X-PUBLISHED-TTL:P3D
REFRESH-INTERVAL:P3D
CALSCALE:GREGORIAN
BEGIN:VEVENT
DTSTART:20130512T150000Z
DTEND:20130519T210000Z
X-MICROSOFT-CDO-ALLDAYEVENT:FALSE
SUMMARY:KACC Quilt Guild Exhibit
DESCRIPTION:KACC Quilt Guild Exhibit\, Local Fiber Artists display their work.
X-ALT-DESC;FMTTYPE=text/html:KACC Quilt Guild Exhibit\, Local Fiber Artists display their work.
LOCATION:Kerr Arts & Cultural Center\, 228 Earl Garrett St.\, Kerrville\, Texas
UID:e.1327.918
SEQUENCE:3
DTSTAMP:20260419T213236Z
URL:https://business.kerrvillechamber.biz/events/details/kacc-quilt-guild-exhibit-05-12-2013-918
END:VEVENT

END:VCALENDAR
