BEGIN:VCALENDAR
VERSION:2.0
PRODID:-//ChamberMaster//Event Calendar 2.0//EN
METHOD:PUBLISH
X-PUBLISHED-TTL:P3D
REFRESH-INTERVAL:P3D
CALSCALE:GREGORIAN
BEGIN:VEVENT
DTSTART:20151119T231500Z
DTEND:20151120T003000Z
X-MICROSOFT-CDO-ALLDAYEVENT:FALSE
SUMMARY:KACOC After Hours Mixer
DESCRIPTION:Kerrville Area Chamber of Commerce Business After Hours Mixer\, sponsored by Victorious Walk Ministries
X-ALT-DESC;FMTTYPE=text/html:Kerrville Area Chamber of Commerce Business After Hours Mixer\, sponsored by Victorious Walk Ministries
LOCATION:Inn of the Hills
UID:e.1327.4931
SEQUENCE:3
DTSTAMP:20260423T050132Z
URL:https://business.kerrvillechamber.biz/events/details/kacoc-after-hours-mixer-11-19-2015-4931
END:VEVENT

END:VCALENDAR
