BEGIN:VCALENDAR
VERSION:2.0
PRODID:-//ChamberMaster//Event Calendar 2.0//EN
METHOD:PUBLISH
X-PUBLISHED-TTL:P3D
REFRESH-INTERVAL:P3D
CALSCALE:GREGORIAN
BEGIN:VEVENT
DTSTART:20121218T174500Z
DTEND:20121218T180000Z
X-MICROSOFT-CDO-ALLDAYEVENT:FALSE
SUMMARY:KACOC Board of Directors Meeting
DESCRIPTION:
X-ALT-DESC;FMTTYPE=text/html:
LOCATION:
UID:e.1327.431
SEQUENCE:3
DTSTAMP:20260420T055710Z
URL:https://business.kerrvillechamber.biz/events/details/kacoc-board-of-directors-meeting-12-18-2012-431
END:VEVENT

END:VCALENDAR
