BEGIN:VCALENDAR
VERSION:2.0
PRODID:-//ChamberMaster//Event Calendar 2.0//EN
METHOD:PUBLISH
X-PUBLISHED-TTL:P3D
REFRESH-INTERVAL:P3D
CALSCALE:GREGORIAN
BEGIN:VEVENT
DTSTART:20151210T124500Z
DTEND:20151210T140000Z
X-MICROSOFT-CDO-ALLDAYEVENT:FALSE
SUMMARY:KACOC Christmas Breakfast Mixer
DESCRIPTION:Business Breakfast Mixer\, sponsored by Broadway Bank and Kerrville Daily Times
X-ALT-DESC;FMTTYPE=text/html:Business Breakfast Mixer\, sponsored by Broadway Bank and&nbsp\;Kerrville Daily Times
LOCATION:Kroc Center\, 201 Holdsworth Dr.
UID:e.1327.4932
SEQUENCE:3
DTSTAMP:20260423T032436Z
URL:https://business.kerrvillechamber.biz/events/details/kacoc-christmas-breakfast-mixer-12-10-2015-4932
END:VEVENT

END:VCALENDAR
