BEGIN:VCALENDAR
VERSION:2.0
PRODID:-//ChamberMaster//Event Calendar 2.0//EN
METHOD:PUBLISH
X-PUBLISHED-TTL:P3D
REFRESH-INTERVAL:P3D
CALSCALE:GREGORIAN
BEGIN:VEVENT
DTSTART:20251029T170000Z
DTEND:20251029T173000Z
X-MICROSOFT-CDO-ALLDAYEVENT:FALSE
SUMMARY:KACOC Ribbon Cutting - AirMedCare Newtork
DESCRIPTION:KACOC Ribbon Cutting - AirMedCare Newtork
X-ALT-DESC;FMTTYPE=text/html:KACOC Ribbon Cutting - AirMedCare Newtork
LOCATION:1873 Airport Loop\, Kerrville\, Texas 78028
UID:e.1327.29234
SEQUENCE:3
DTSTAMP:20260423T164936Z
URL:https://business.kerrvillechamber.biz/events/details/kacoc-ribbon-cutting-airmedcare-newtork-29234
END:VEVENT

END:VCALENDAR
