BEGIN:VCALENDAR
VERSION:2.0
PRODID:-//ChamberMaster//Event Calendar 2.0//EN
METHOD:PUBLISH
X-PUBLISHED-TTL:P3D
REFRESH-INTERVAL:P3D
CALSCALE:GREGORIAN
BEGIN:VEVENT
DTSTART;VALUE=DATE:20130323
DTEND;VALUE=DATE:20130324
TRANSP:TRANSPARENT
X-MICROSOFT-CDO-ALLDAYEVENT:TRUE
SUMMARY:Kerr County Market Day
DESCRIPTION:Old fashioned market on the square. organization of growers\, artists\, craftspeople and food producers operating a pet-friendly\, child-friendly open air market on the grounds of the beautiful Kerr County Courthouse Square.\n\n\n\nFree to attend!
X-ALT-DESC;FMTTYPE=text/html:<span style="font-size: 12px\;"><span style="font-family: arial\;">Old fashioned market on the square. organization of growers\, artists\, craftspeople and food producers operating a pet-friendly\, child-friendly open air market on the grounds of the beautiful Kerr County Courthouse Square<strong>.</strong><br />\n<br />\nFree to attend!</span></span>
LOCATION:Courthouse Square\, 700 Main St.
UID:e.1327.570
SEQUENCE:3
DTSTAMP:20260420T021341Z
URL:https://business.kerrvillechamber.biz/events/details/kerr-county-market-day-03-23-2013-570
END:VEVENT

END:VCALENDAR
