BEGIN:VCALENDAR
VERSION:2.0
PRODID:-//ChamberMaster//Event Calendar 2.0//EN
METHOD:PUBLISH
X-PUBLISHED-TTL:P3D
REFRESH-INTERVAL:P3D
CALSCALE:GREGORIAN
BEGIN:VEVENT
DTSTART;VALUE=DATE:20150515
DTEND;VALUE=DATE:20150517
TRANSP:TRANSPARENT
X-MICROSOFT-CDO-ALLDAYEVENT:TRUE
SUMMARY:Kerrfest
DESCRIPTION:Kerrfest\, Peddler Show\, Vendors and Kids Activities\, Chili & BBQ Cook off\, Rodeo\, Street Dance with John Christopher Way on Friday and Charlie Montague on Saturday\, Helecopter Rides\, Petting Zoo and more.
X-ALT-DESC;FMTTYPE=text/html:Kerrfest\, Peddler Show\, Vendors and Kids Activities\, Chili &amp\; BBQ Cook off\, Rodeo\, Street Dance with John Christopher Way on Friday and Charlie Montague on Saturday\, Helecopter Rides\, Petting Zoo and more.
LOCATION:Hill Country Youth Event Center\, 3705 Hwy. 27
UID:e.1327.3828
SEQUENCE:3
DTSTAMP:20260423T144821Z
URL:https://business.kerrvillechamber.biz/events/details/kerrfest-05-15-2015-3828
END:VEVENT

END:VCALENDAR
