BEGIN:VCALENDAR
VERSION:2.0
PRODID:-//ChamberMaster//Event Calendar 2.0//EN
METHOD:PUBLISH
X-PUBLISHED-TTL:P3D
REFRESH-INTERVAL:P3D
CALSCALE:GREGORIAN
BEGIN:VEVENT
DTSTART;VALUE=DATE:20130518
DTEND;VALUE=DATE:20130519
TRANSP:TRANSPARENT
X-MICROSOFT-CDO-ALLDAYEVENT:TRUE
SUMMARY:Kerrfest
DESCRIPTION:Featuring a rodeo\, CASI-sanctioned chili cook-off\, carnival\, dance\, and home brew festival. More details to follow! May 17-18\, 2013.
X-ALT-DESC;FMTTYPE=text/html:Featuring a rodeo\, CASI-sanctioned chili cook-off\, carnival\, dance\, and home brew festival. More details to follow! May 17-18\, 2013.
LOCATION:Hill Country Youth Event Center 3705 Hwy. 27 Kerrville\, Texas
UID:e.1327.435
SEQUENCE:3
DTSTAMP:20260419T231154Z
URL:https://business.kerrvillechamber.biz/events/details/kerrfest-05-18-2013-435
END:VEVENT

END:VCALENDAR
