BEGIN:VCALENDAR
VERSION:2.0
PRODID:-//ChamberMaster//Event Calendar 2.0//EN
METHOD:PUBLISH
X-PUBLISHED-TTL:P3D
REFRESH-INTERVAL:P3D
CALSCALE:GREGORIAN
BEGIN:VEVENT
DTSTART:20130404T230000Z
DTEND:20130405T000000Z
X-MICROSOFT-CDO-ALLDAYEVENT:FALSE
SUMMARY:Kerrville Affordable Care Act Boot Camp 2013
DESCRIPTION:Kerrville Affordable Care Act Boot Camp 2013 - a public information session on healthcare reform changes\, what is and is not happening in Texas\, so far.\n\n \n\nPresenter: Courtney Watson on the "Texas Well and Health Campaign" education team of the Children's Defense Fund.\n\n \n\nThursday\, April 4. Attend one of the presentations at Schreiner University: 12 noon in the downstairs Conference Room or in a Ballroom upstairs for the 6pm presentation in the Kathleen Cailloux Activity Center (CCAC). Each presentation will be about an hour with time for Q&A.\n\n \n\nSponsored by AAUW\, League of Women Voters-Kerrville Area and Schreiner University.
X-ALT-DESC;FMTTYPE=text/html:<span style="font-family:arial\,sans-serif\;"><span style="font-size:16.0pt\;">Kerrville Affordable Care Act Boot Camp 2013 -&nbsp\;a public information session on healthcare reform changes\, what is and is not happening in Texas\, so far.</span></span><br />\n&nbsp\;<br />\n<span style="font-family:arial\,sans-serif\;"><span style="font-size:16.0pt\;">Presenter: Courtney Watson on the &quot\;Texas Well and Health Campaign&quot\; education team of the Children&#39\;s Defense Fund.</span></span><br />\n&nbsp\;<br />\n<span style="font-family:arial\,sans-serif\;"><span style="font-size:16.0pt\;">Thursday\, April 4. Attend one of the presentations at Schreiner University: 12 noon in the downstairs Conference Room or in a Ballroom upstairs for the 6pm presentation in the Kathleen Cailloux Activity Center (CCAC).&nbsp\;Each presentation will be about an hour with time for Q&amp\;A.</span></span><br />\n&nbsp\;<br />\n<span style="font-family:arial\,sans-serif\;"><span style="font-size:16.0pt\;">Sponsored by AAUW\, League of Women Voters-Kerrville Area and Schreiner University. </span></span>
LOCATION:
UID:e.1327.603
SEQUENCE:3
DTSTAMP:20260419T224913Z
URL:https://business.kerrvillechamber.biz/events/details/kerrville-affordable-care-act-boot-camp-2013-04-04-2013-603
END:VEVENT

END:VCALENDAR
