BEGIN:VCALENDAR
VERSION:2.0
PRODID:-//ChamberMaster//Event Calendar 2.0//EN
METHOD:PUBLISH
X-PUBLISHED-TTL:P3D
REFRESH-INTERVAL:P3D
CALSCALE:GREGORIAN
BEGIN:VEVENT
DTSTART;VALUE=DATE:20130523
DTEND;VALUE=DATE:20130610
TRANSP:TRANSPARENT
X-MICROSOFT-CDO-ALLDAYEVENT:TRUE
SUMMARY:Kerrville Folk Festival
DESCRIPTION:Starting on the Thursday before Memorial Day at the end of May\, the music continues for 18 days with performances by more than 100 singer songwriters and their bands. Interspersed between weekends are workshops in songwriting\, blues guitar\, and harmonica. The annual Kerrville New Folk songwriting competition is held on the first weekend and draws 32 of the best of America's emerging songwriters. Award winners are recognized at a special concert on the second weekend. The Texas Folk Music Foundation sponsors the Professional Development Program for Teachers the second mid-week of the festival and is a great way for teachers to earn continuing education credits while learning how to utilize music as a teaching tool. The Kerrville Folk Festival is a great place to be for Kerrverts of All Ages!\n\n	 \n\n	A variety of food items ranging from bar-b-que to vegetarian selections are available in the theater at our food service pavilion during main stage performance nights. Beer\, wine\, smoothies\, soft drinks and gourmet coffee drinks are also available. NO BOTTLES\, CANS\, OR ICE CHESTS are allowed in the theater (these are prohibited by our beer license)\, but are permitted in the campgrounds. The Kerr-Cafe is located in the Quiet Valley Ranch campgrounds and is open daily for breakfast\, lunch and evening snacks. Ice\, beer\, and soft drinks are also available at the Kerr-try store in the campgrounds. \n\n	No one under 18 can be admitted without parent or guardian.
X-ALT-DESC;FMTTYPE=text/html:<p align="left">\n	<font face="Verdana\, Arial\, Helvetica\, sans-serif" size="2">Starting on the Thursday before Memorial Day at the end of May\, the music continues for 18 days with performances by more than 100 singer songwriters and their bands. Interspersed between weekends are workshops in songwriting\, blues guitar\, and harmonica. The annual Kerrville New Folk songwriting competition is held on the first weekend and draws 32 of the best of America&#39\;s emerging songwriters. Award winners are recognized at a special concert on the second weekend. The Texas Folk Music Foundation sponsors the Professional Development Program for Teachers the second mid-week of the festival and is a great way for teachers to earn continuing education credits while learning how to utilize music as a teaching tool.</font> <font face="Verdana\, Arial\, Helvetica\, sans-serif" size="2">The Kerrville Folk Festival is a great place to be for Kerrverts of All Ages!</font></p>\n<p style="margin-top: 0px\; margin-bottom: 0px\;">\n	&nbsp\;</p>\n<p style="margin-top: 0px\; margin-bottom: 0px\;">\n	<font face="Verdana\, Arial\, Helvetica\, sans-serif" size="2">A variety of food items ranging from bar-b-que to vegetarian selections are available in the theater at our food service pavilion during main stage performance nights. Beer\, wine\, smoothies\, soft drinks and gourmet coffee drinks are also available. NO BOTTLES\, CANS\, OR ICE CHESTS are allowed in the theater (these are prohibited by our beer license)\, but are permitted in the campgrounds. The Kerr-Cafe is located in the Quiet Valley Ranch campgrounds and is open daily for breakfast\, lunch and evening snacks. Ice\, beer\, and soft drinks are also available at the Kerr-try store in the campgrounds. </font></p>\n<p style="margin-top: 0px\; margin-bottom: 0px\;">\n	<font face="Verdana\, Arial\, Helvetica\, sans-serif" size="2">No one under 18 can be admitted without parent or guardian. </font></p>\n
LOCATION:Quiet Valley Ranch\, 9 miles south of Kerrville on Texas Hwy 16
UID:e.1327.627
SEQUENCE:3
DTSTAMP:20260419T213807Z
URL:https://business.kerrvillechamber.biz/events/details/kerrville-folk-festival-05-23-2013-627
END:VEVENT

END:VCALENDAR
