BEGIN:VCALENDAR
VERSION:2.0
PRODID:-//ChamberMaster//Event Calendar 2.0//EN
METHOD:PUBLISH
X-PUBLISHED-TTL:P3D
REFRESH-INTERVAL:P3D
CALSCALE:GREGORIAN
BEGIN:VEVENT
DTSTART:20260315T153000Z
DTEND:20260315T170000Z
X-MICROSOFT-CDO-ALLDAYEVENT:FALSE
SUMMARY:Kerrville Global Methodist Launch of New Facility
DESCRIPTION:Come Celebrate with Us as we conscrate our new building on 94 Coronado Dr.  here is Kerrville\n\nWorship @ 10:30 a.m.
X-ALT-DESC;FMTTYPE=text/html:Come Celebrate with Us as we conscrate our new building on 94 Coronado Dr. &nbsp\;here is Kerrville<br />\nWorship @ 10:30 a.m.
LOCATION:94 Coronado Dr. Kerrville\, TX
UID:e.1327.29290
SEQUENCE:3
DTSTAMP:20260423T092649Z
URL:https://business.kerrvillechamber.biz/events/details/kerrville-global-methodist-launch-of-new-facility-29290
END:VEVENT

END:VCALENDAR
