BEGIN:VCALENDAR
VERSION:2.0
PRODID:-//ChamberMaster//Event Calendar 2.0//EN
METHOD:PUBLISH
X-PUBLISHED-TTL:P3D
REFRESH-INTERVAL:P3D
CALSCALE:GREGORIAN
BEGIN:VEVENT
DTSTART:20130202T200000Z
DTEND:20130202T230000Z
X-MICROSOFT-CDO-ALLDAYEVENT:FALSE
SUMMARY:Kerrville Hills Winery
DESCRIPTION:Live Music featuring Acoustic Jungle.  Their music has been called Latin Jazz\, World Beat and Nuevo-Flamenco.  Their sound is a unique blend of exotic rhythms and Flamenco guitar with contemporary instrumental Jazz song writing sensibilities clearly influenced by the lush musical traditions of Mexico\, Spain and the Caribbean.
X-ALT-DESC;FMTTYPE=text/html:Live Music featuring Acoustic Jungle.&nbsp\; Their music has been called Latin Jazz\, World Beat and Nuevo-Flamenco.&nbsp\; Their sound is a unique blend of exotic rhythms and Flamenco guitar with contemporary instrumental Jazz song writing sensibilities clearly influenced by the lush musical traditions of Mexico\, Spain and the Caribbean.
LOCATION:Kerrville Hills Winery\, 3600 Fredericksburg\, Kerrville\, Texas 2.3 miles north of I-10 on Hwy 16.
UID:e.1327.582
SEQUENCE:3
DTSTAMP:20260420T035001Z
URL:https://business.kerrvillechamber.biz/events/details/kerrville-hills-winery-02-02-2013-582
END:VEVENT

END:VCALENDAR
