BEGIN:VCALENDAR
VERSION:2.0
PRODID:-//ChamberMaster//Event Calendar 2.0//EN
METHOD:PUBLISH
X-PUBLISHED-TTL:P3D
REFRESH-INTERVAL:P3D
CALSCALE:GREGORIAN
BEGIN:VEVENT
DTSTART:20130209T200000Z
DTEND:20130209T230000Z
X-MICROSOFT-CDO-ALLDAYEVENT:FALSE
SUMMARY:Kerrville Hills Winery
DESCRIPTION:Live Music featuring the Wolf Sisters.  We are pleased to host the Wolf Sisters\, twins who were born and raised in the Texas Hill Country.  Sarah plays rhythm and is the lead vocalist\, and Becca sings lead and harmony. They have written over 16 songs and released their first EP in 2011.  Conchitas on Main will serve lunch and snacks from 1:00-4:00 pm.  Enjoy a snack\, great music and award winning wine Saturday  afternoon in our unique tasting room!
X-ALT-DESC;FMTTYPE=text/html:Live Music featuring the Wolf Sisters.&nbsp\; We are pleased to host the Wolf Sisters\, twins who were born and raised in the Texas Hill Country.&nbsp\; Sarah plays rhythm and is the lead vocalist\, and Becca sings lead and harmony. They have written over 16 songs and released their first EP in 2011.&nbsp\; Conchitas on Main will serve lunch and snacks from 1:00-4:00 pm.&nbsp\; Enjoy a snack\, great music and award winning wine Saturday&nbsp\; afternoon in our unique tasting room!
LOCATION:3600 Fredericksburg\, Kerrville Texas. 2.3 miles north of I-10 on Hwy. 16
UID:e.1327.583
SEQUENCE:3
DTSTAMP:20260420T021340Z
URL:https://business.kerrvillechamber.biz/events/details/kerrville-hills-winery-02-09-2013-583
END:VEVENT

END:VCALENDAR
