BEGIN:VCALENDAR
VERSION:2.0
PRODID:-//ChamberMaster//Event Calendar 2.0//EN
METHOD:PUBLISH
X-PUBLISHED-TTL:P3D
REFRESH-INTERVAL:P3D
CALSCALE:GREGORIAN
BEGIN:VEVENT
DTSTART:20130210T210000Z
DTEND:20130210T230000Z
X-MICROSOFT-CDO-ALLDAYEVENT:FALSE
SUMMARY:Kerrville Hills Winery
DESCRIPTION:Kerrville Hills Winery Book signing and Happy Hour.  Join us for Dana Cardwell's book signing of Obstacles in the Road: A Survivor's Memoir of Becoming an Iron\n\nChick.  This inspiring and educational book follows Dana's journey as she becomes an Ironman\, removes past drama from her life and becomes mentally and physically healthy. Happy Hour is 3:00 - 5:00 every Sunday\, so enjoy a glass of wine for 1/2 price during your visit.
X-ALT-DESC;FMTTYPE=text/html:Kerrville Hills Winery Book signing and Happy Hour.&nbsp\; Join us for Dana Cardwell&#39\;s book signing of Obstacles in the Road: A Survivor&#39\;s Memoir of Becoming an Iron<br />\nChick.&nbsp\; This inspiring and educational book follows Dana&#39\;s journey as she becomes an Ironman\, removes past drama from her life and becomes mentally and physically healthy. Happy Hour is 3:00 - 5:00 every Sunday\, so enjoy a glass of wine for 1/2 price during your visit.
LOCATION:3600 Fredericksburg Kerrville Texas\, 2.3 miles north of I-10 on Hwy. 16
UID:e.1327.584
SEQUENCE:3
DTSTAMP:20260420T035147Z
URL:https://business.kerrvillechamber.biz/events/details/kerrville-hills-winery-02-10-2013-584
END:VEVENT

END:VCALENDAR
