BEGIN:VCALENDAR
VERSION:2.0
PRODID:-//ChamberMaster//Event Calendar 2.0//EN
METHOD:PUBLISH
X-PUBLISHED-TTL:P3D
REFRESH-INTERVAL:P3D
CALSCALE:GREGORIAN
BEGIN:VEVENT
DTSTART:20130420T003000Z
DTEND:20130420T030000Z
X-MICROSOFT-CDO-ALLDAYEVENT:FALSE
SUMMARY:Kerrville Hills Winery Date Night
DESCRIPTION:Kerrville Hills Winery Date Night - All Jazzed Up\n\nRelax with live Jazz music\, great wine and wonderful company at the winery. Billy Ray Sheppard will dazzle you with his saxophone skills\, further enhanced by an accompanying  keyboardist .
X-ALT-DESC;FMTTYPE=text/html:Kerrville Hills Winery Date Night - All Jazzed Up<br />\nRelax with live Jazz music\, great wine and wonderful company at the winery.&nbsp\;Billy Ray Sheppard will dazzle you with his saxophone skills\, further enhanced by an accompanying&nbsp\; keyboardist .
LOCATION:3600 Fredericksburg\, Kerrville\, Tx. 2.3 miles north of I-10 on Hwy. 16
UID:e.1327.924
SEQUENCE:3
DTSTAMP:20260419T225129Z
URL:https://business.kerrvillechamber.biz/events/details/kerrville-hills-winery-date-night-04-19-2013-924
END:VEVENT

END:VCALENDAR
