BEGIN:VCALENDAR
VERSION:2.0
PRODID:-//ChamberMaster//Event Calendar 2.0//EN
METHOD:PUBLISH
X-PUBLISHED-TTL:P3D
REFRESH-INTERVAL:P3D
CALSCALE:GREGORIAN
BEGIN:VEVENT
DTSTART:20130330T190000Z
DTEND:20130330T220000Z
X-MICROSOFT-CDO-ALLDAYEVENT:FALSE
SUMMARY:Kerrville Hills Winery Live Music
DESCRIPTION:Kerrville Hills Winery\, Live Music featuring the Sassy Spurs\n\nCome see these young teens before they make it so big you can't get in the theater! A blend of country with pop and R&B favorites.
X-ALT-DESC;FMTTYPE=text/html:Kerrville Hills Winery\, Live Music featuring the Sassy Spurs<br />\nCome see these young teens before they make it so big you can&#39\;t get in the theater! A blend of country with pop and R&amp\;B favorites.
LOCATION:Kerrville Hills Winery\, 3600 Fredericksburg Kerrville Texas. 2.3 miles north of I-10 on Hwy 16
UID:e.1327.694
SEQUENCE:3
DTSTAMP:20260420T021545Z
URL:https://business.kerrvillechamber.biz/events/details/kerrville-hills-winery-live-music-03-30-2013-694
END:VEVENT

END:VCALENDAR
