BEGIN:VCALENDAR
VERSION:2.0
PRODID:-//ChamberMaster//Event Calendar 2.0//EN
METHOD:PUBLISH
X-PUBLISHED-TTL:P3D
REFRESH-INTERVAL:P3D
CALSCALE:GREGORIAN
BEGIN:VEVENT
DTSTART:20130406T190000Z
DTEND:20130406T220000Z
X-MICROSOFT-CDO-ALLDAYEVENT:FALSE
SUMMARY:Kerrville Hills Winery Live Music
DESCRIPTION:Kerrville Hills Winery Live Music featuring Exit 505.  This local Texas Hill Country band features superb vocals and harmony.  They play a wide variety of music including bluegrass\, country\, rock\, Texas swing\, and gospel.
X-ALT-DESC;FMTTYPE=text/html:Kerrville Hills Winery Live Music featuring Exit 505.&nbsp\; This local Texas Hill Country band features superb vocals and harmony.&nbsp\; They play a wide variety of music including bluegrass\, country\, rock\, Texas swing\, and gospel.
LOCATION:Kerrville Hills Winery\, 3600 Fredericksburg\, Kerrville\, Tx. 2.3 miles north of I-10 on Hwy. 16
UID:e.1327.695
SEQUENCE:3
DTSTAMP:20260420T002640Z
URL:https://business.kerrvillechamber.biz/events/details/kerrville-hills-winery-live-music-04-06-2013-695
END:VEVENT

END:VCALENDAR
