BEGIN:VCALENDAR
VERSION:2.0
PRODID:-//ChamberMaster//Event Calendar 2.0//EN
METHOD:PUBLISH
X-PUBLISHED-TTL:P3D
REFRESH-INTERVAL:P3D
CALSCALE:GREGORIAN
BEGIN:VEVENT
DTSTART:20130427T190000Z
DTEND:20130427T220000Z
X-MICROSOFT-CDO-ALLDAYEVENT:FALSE
SUMMARY:Kerrville Hills Winery Live Music
DESCRIPTION:Kerrville Hills Winery Live Music featuring Victor Andrada.  Victor blends jazz\, blues\, Latin\, swing and country styles with an overall easy listening style.
X-ALT-DESC;FMTTYPE=text/html:Kerrville Hills Winery Live Music featuring Victor Andrada.&nbsp\; Victor blends jazz\, blues\, Latin\, swing and country styles with an overall easy listening style.
LOCATION:Kerrville Hills Winery\, 3600 Fredericksburg\, Kerrville\, Tx. 2.3 miles north of I-10 on Hwy. 16
UID:e.1327.935
SEQUENCE:3
DTSTAMP:20260420T002634Z
URL:https://business.kerrvillechamber.biz/events/details/kerrville-hills-winery-live-music-04-27-2013-935
END:VEVENT

END:VCALENDAR
