BEGIN:VCALENDAR
VERSION:2.0
PRODID:-//ChamberMaster//Event Calendar 2.0//EN
METHOD:PUBLISH
X-PUBLISHED-TTL:P3D
REFRESH-INTERVAL:P3D
CALSCALE:GREGORIAN
BEGIN:VEVENT
DTSTART;VALUE=DATE:20130928
DTEND;VALUE=DATE:20130930
TRANSP:TRANSPARENT
X-MICROSOFT-CDO-ALLDAYEVENT:TRUE
SUMMARY:Kerrville Triathlon
DESCRIPTION:This multi-day event consists of three different events:\n\n	\n		A Sprint Distance Triathlon\, perfect for beginners and experienced athletes.\n	\n		A Half Distance Triathlon\, featuring some of the most scenic cycling available in Texas. This distance also includes a relay option.\n	\n		A Quarter Distance Triathlon\, using the same great course as the Half Distance.\n	\n		And a free Kids Run!\n\n\n	The event will also feature a 2-day sports expo and exciting multi-loop run course with a downtown run & finish that is great for spectators.
X-ALT-DESC;FMTTYPE=text/html:This multi-day event consists of three different events:\n<ul>\n	<li>\n		A Sprint Distance Triathlon\, perfect for beginners and experienced athletes.</li>\n	<li>\n		A Half Distance Triathlon\, featuring some of the most scenic cycling available in Texas. This distance also includes a relay option.</li>\n	<li>\n		A Quarter Distance Triathlon\, using the same great course as the Half <u>Distance.</u></li>\n	<li>\n		<u>And a free Kids Run!</u></li>\n</ul>\n<p>\n	The event will also feature a 2-day sports expo and exciting multi-loop run course with a downtown run &amp\; finish that is great for spectators.</p>\n
LOCATION:
UID:e.1327.632
SEQUENCE:3
DTSTAMP:20260419T151432Z
URL:https://business.kerrvillechamber.biz/events/details/kerrville-triathlon-09-28-2013-632
END:VEVENT

END:VCALENDAR
