BEGIN:VCALENDAR
VERSION:2.0
PRODID:-//ChamberMaster//Event Calendar 2.0//EN
METHOD:PUBLISH
X-PUBLISHED-TTL:P3D
REFRESH-INTERVAL:P3D
CALSCALE:GREGORIAN
BEGIN:VEVENT
DTSTART:20130131T174500Z
DTEND:20130131T190000Z
X-MICROSOFT-CDO-ALLDAYEVENT:FALSE
SUMMARY:KISD\, State of the District
DESCRIPTION:KISD\, State of the District\, Speaker Dan Troxell\, Ph.D.\, Superintendent KISD
X-ALT-DESC;FMTTYPE=text/html:KISD\, State of the District\, Speaker Dan Troxell\, Ph.D.\, Superintendent KISD
LOCATION:Cailloux Ballroom\, Schreiner University
UID:e.1327.513
SEQUENCE:3
DTSTAMP:20260420T035001Z
URL:https://business.kerrvillechamber.biz/events/details/kisd-state-of-the-district-01-31-2013-513
END:VEVENT

END:VCALENDAR
