BEGIN:VCALENDAR
VERSION:2.0
PRODID:-//ChamberMaster//Event Calendar 2.0//EN
METHOD:PUBLISH
X-PUBLISHED-TTL:P3D
REFRESH-INTERVAL:P3D
CALSCALE:GREGORIAN
BEGIN:VEVENT
DTSTART:20251025T140000Z
DTEND:20251025T180000Z
X-MICROSOFT-CDO-ALLDAYEVENT:FALSE
SUMMARY:Kroctober Fest
DESCRIPTION:Kroctober Fest at the Kerrville Kroc Center! Free event with some paid activities. Join us for hay rides\, pumpkin carving\, cake walk\, food vendors\, bounce houses\, petting zoo\, face paint\, and live music.
X-ALT-DESC;FMTTYPE=text/html:Kroctober Fest at the Kerrville Kroc Center! Free event with some paid activities. Join us for hay rides\, pumpkin carving\, cake walk\, food vendors\, bounce houses\, petting zoo\, face paint\, and live music.&nbsp\;
LOCATION:
UID:e.1327.29230
SEQUENCE:3
DTSTAMP:20260423T164423Z
URL:https://business.kerrvillechamber.biz/events/details/kroctober-fest-29230
END:VEVENT

END:VCALENDAR
