BEGIN:VCALENDAR
VERSION:2.0
PRODID:-//ChamberMaster//Event Calendar 2.0//EN
METHOD:PUBLISH
X-PUBLISHED-TTL:P3D
REFRESH-INTERVAL:P3D
CALSCALE:GREGORIAN
BEGIN:VEVENT
DTSTART:20250901T150000Z
DTEND:20250901T200000Z
X-MICROSOFT-CDO-ALLDAYEVENT:FALSE
SUMMARY:Labor Day Brunch
DESCRIPTION:Celebrate your day off in delicious style at the Labor Day Brunch at The Pinnacle Grill on Monday\, September 1st from 10am to 3pm.\n\nEnjoy chef-curated holiday specials like Wagyu Chicken Fried Steak & Biscuit Eggs Benedict\, Red\, White & Blueberry French Toast\, Maple-Glazed Sweet Potato Peach Hash\, and more. With made-to-order omelets\, fresh summer salads\, and decadent desserts like Hot Honey Peach Cheesecake\, it's the perfect way to spend your Labor Day.\n\nNo membership required   everyone's welcome! Bring your friends\, your appetite\, and enjoy a relaxed\, flavorful holiday brunch with Hill Country views. Visit our website or call 830-895-8505 to save your spot!
X-ALT-DESC;FMTTYPE=text/html:<p>Celebrate your day off in delicious style at the <strong>Labor Day Brunch at The Pinnacle Grill</strong>&nbsp\;on <strong>Monday\, September 1st from 10am to 3pm</strong>.</p>\n\n<p>Enjoy chef-curated holiday specials like Wagyu Chicken Fried Steak &amp\; Biscuit Eggs Benedict\, Red\, White &amp\; Blueberry French Toast\, Maple-Glazed Sweet Potato Peach Hash\, and more. With made-to-order omelets\, fresh summer salads\, and decadent desserts like Hot Honey Peach Cheesecake\, it&rsquo\;s the perfect way to spend your Labor Day.</p>\n\n<p><strong>No membership required &mdash\; everyone&rsquo\;s welcome!</strong> Bring your friends\, your appetite\, and enjoy a relaxed\, flavorful holiday brunch with Hill Country views. Visit our website or call 830-895-8505 to save your spot!</p>\n
LOCATION:Pinnacle Grill at Comanche Trace
UID:e.1327.29211
SEQUENCE:3
DTSTAMP:20260423T194832Z
URL:https://business.kerrvillechamber.biz/events/details/labor-day-brunch-29211
END:VEVENT

END:VCALENDAR
