BEGIN:VCALENDAR
VERSION:2.0
PRODID:-//ChamberMaster//Event Calendar 2.0//EN
METHOD:PUBLISH
X-PUBLISHED-TTL:P3D
REFRESH-INTERVAL:P3D
CALSCALE:GREGORIAN
BEGIN:VEVENT
DTSTART:20130425T170000Z
DTEND:20130425T183000Z
X-MICROSOFT-CDO-ALLDAYEVENT:FALSE
SUMMARY:Leading Ladies Style Show & Luncheon
DESCRIPTION:Christian Women's Job Corps presents the "Leading Ladies Style Show & Luncheon"\n\nintroducing the 2013 Spring Class.
X-ALT-DESC;FMTTYPE=text/html:Christian Women&#39\;s Job Corps presents the &quot\;Leading Ladies Style Show &amp\; Luncheon&quot\;<br />\nintroducing the 2013 Spring Class.
LOCATION:YO Ranch Hotel & Conference Center
UID:e.1327.685
SEQUENCE:3
DTSTAMP:20260419T225129Z
URL:https://business.kerrvillechamber.biz/events/details/leading-ladies-style-show-luncheon-04-25-2013-685
END:VEVENT

END:VCALENDAR
