BEGIN:VCALENDAR
VERSION:2.0
PRODID:-//ChamberMaster//Event Calendar 2.0//EN
METHOD:PUBLISH
X-PUBLISHED-TTL:P3D
REFRESH-INTERVAL:P3D
CALSCALE:GREGORIAN
BEGIN:VEVENT
DTSTART:20131029T230000Z
DTEND:20131030T003000Z
X-MICROSOFT-CDO-ALLDAYEVENT:FALSE
SUMMARY:League of Women Voters Continuing Study of Sexual Human Trafficking in Texas
DESCRIPTION:Join us! The League of Women Voters' Kerrville Area will continue the LWV - Texas "State Study" of the issues of human trafficking in Texas specifically for the discussion of the Human Trafficking Issues Questions #5 and #8. (Please see The Facts and Issues and Consensus Questions on the LWV - Texas website\, www.lwvtexas.org.) All League Members are encouraged to attend. As always\, an open meeting for all who have interest in the League of Women Voters - Kerrville Area. Discussion and Dinner Meeting. (Dinner - separate checks) (The laws pertaining to human-trafficking divide the issues into labor trafficking and sex trafficking. The State Study focuses on several issues of sex trafficking - prevention\, prosecution\, protection and agency partnership.)
X-ALT-DESC;FMTTYPE=text/html:Join us! The League of Women Voters&#39\; Kerrville Area will continue the LWV - Texas &quot\;State Study&quot\; of the issues of human trafficking in Texas specifically for the discussion of the Human Trafficking Issues Questions #5 and #8. (Please see The Facts and Issues and Consensus Questions on the LWV - Texas website\, www.lwvtexas.org.) All League Members are encouraged to attend. As always\, an open meeting for all who have interest in the League of Women Voters - Kerrville Area. Discussion and Dinner Meeting. (Dinner - separate checks) (The laws pertaining to human-trafficking divide the issues into labor trafficking and sex trafficking. The State Study focuses on several issues of sex trafficking - prevention\, prosecution\, protection and agency partnership.)
LOCATION:Billy Gene Restaurant's Private Dining Room 1489 Junction Highway Kerrville\, TX 78028
UID:e.1327.1591
SEQUENCE:3
DTSTAMP:20260419T152130Z
URL:https://business.kerrvillechamber.biz/events/details/league-of-women-voters-continuing-study-of-sexual-human-trafficking-in-texas-10-29-2013-1591
END:VEVENT

END:VCALENDAR
