BEGIN:VCALENDAR
VERSION:2.0
PRODID:-//ChamberMaster//Event Calendar 2.0//EN
METHOD:PUBLISH
X-PUBLISHED-TTL:P3D
REFRESH-INTERVAL:P3D
CALSCALE:GREGORIAN
BEGIN:VEVENT
DTSTART:20130919T230000Z
DTEND:20130920T003000Z
X-MICROSOFT-CDO-ALLDAYEVENT:FALSE
SUMMARY:League of Women Voters - Kerrville Area meet to continue their "Study" of Human Trafficking in Texas
DESCRIPTION:The League of Women Voters - Kerrville Area continues their "study" of Human Trafficking in Texas.
X-ALT-DESC;FMTTYPE=text/html:The League of Women Voters - Kerrville Area continues their&nbsp\;&quot\;study&quot\; of Human Trafficking in Texas.
LOCATION:Billy Gene's Private Dining Room 1489 Junction Highway Kerrville\, Tx 78028 830-895-7377 http://www.billygenes.com/
UID:e.1327.1048
SEQUENCE:3
DTSTAMP:20260419T165723Z
URL:https://business.kerrvillechamber.biz/events/details/league-of-women-voters-kerrville-area-meet-to-continue-their-study-of-human-trafficking-in-texas-09-19-2013-1048
END:VEVENT

END:VCALENDAR
