BEGIN:VCALENDAR
VERSION:2.0
PRODID:-//ChamberMaster//Event Calendar 2.0//EN
METHOD:PUBLISH
X-PUBLISHED-TTL:P3D
REFRESH-INTERVAL:P3D
CALSCALE:GREGORIAN
BEGIN:VEVENT
DTSTART:20150611T130000Z
DTEND:20150611T220000Z
X-MICROSOFT-CDO-ALLDAYEVENT:FALSE
SUMMARY:Learn how to motivate and even counsel employees?
DESCRIPTION:A seminar presented by Sid Hurlburt.  "Learn how to motivate and even counsel employees"
X-ALT-DESC;FMTTYPE=text/html:A seminar presented by Sid Hurlburt.&nbsp\; <span style="color: rgb(31\, 73\, 125)\;"><span style="font-size: medium\;"><span style="font-family: calibri\;">&ldquo\;Learn how to motivate and even counsel employees&rdquo\;</span></span></span><br />\n&nbsp\;
LOCATION:Kerrville Area Chamber of Commerce\, 1700 Sidney Baker\, Ste. 100
UID:e.1327.4657
SEQUENCE:3
DTSTAMP:20260423T130003Z
URL:https://business.kerrvillechamber.biz/events/details/learn-how-to-motivate-and-even-counsel-employees-06-11-2015-4657
END:VEVENT

END:VCALENDAR
