BEGIN:VCALENDAR
VERSION:2.0
PRODID:-//ChamberMaster//Event Calendar 2.0//EN
METHOD:PUBLISH
X-PUBLISHED-TTL:P3D
REFRESH-INTERVAL:P3D
CALSCALE:GREGORIAN
BEGIN:VEVENT
DTSTART:20130803T190000Z
DTEND:20130803T220000Z
X-MICROSOFT-CDO-ALLDAYEVENT:FALSE
SUMMARY:Live Music at Kerrville Hills Winery Featuring Laura Marie
DESCRIPTION:Spend the afternoon enjoying guitar\, wonderful vocals\,original music & great wine! Laura Marie is a talented singer & songwriter from San Antonio who plays guitar with a Pop\, Americana\, and Folk approach.
X-ALT-DESC;FMTTYPE=text/html:<span style="color:black\;"><span style="font-family:arial\,sans-serif\;">Spend the afternoon enjoying guitar\, wonderful vocals\,original music &amp\; great wine!&nbsp\;Laura Marie is a talented&nbsp\;singer &amp\; songwriter from San Antonio who plays guitar with a Pop\, Americana\, and Folk&nbsp\;approach.</span></span>
LOCATION:Kerrville Hills Winery 3600 Fredericksburg Rd Interstate 10 - Exit 508 Kerrville\, Texas 78028
UID:e.1327.1038
SEQUENCE:3
DTSTAMP:20260419T165437Z
URL:https://business.kerrvillechamber.biz/events/details/live-music-at-kerrville-hills-winery-featuring-laura-marie-08-03-2013-1038
END:VEVENT

END:VCALENDAR
