BEGIN:VCALENDAR
VERSION:2.0
PRODID:-//ChamberMaster//Event Calendar 2.0//EN
METHOD:PUBLISH
X-PUBLISHED-TTL:P3D
REFRESH-INTERVAL:P3D
CALSCALE:GREGORIAN
BEGIN:VEVENT
DTSTART:20130810T190000Z
DTEND:20130810T220000Z
X-MICROSOFT-CDO-ALLDAYEVENT:FALSE
SUMMARY:Live Music at Kerrville Hills Winery Featuring Richy Rhyne
DESCRIPTION:Richy Rhyne is a talented singer and songwriter who plays piano & guitar with an Americana\, Folk\, and Country approach. Spend the afternoon enjoying wonderful vocals\, original music & great wine!  FYI: August 10th is Richy's 17th wedding anniversary so let's welcome him AND get him out the door by 5:15!
X-ALT-DESC;FMTTYPE=text/html:<span style="color:black\;"><span style="font-family:arial\,sans-serif\;"><span style="font-size:12.0pt\;">Richy Rhyne is a talented singer and songwriter who plays piano &amp\; guitar with an Americana\, Folk\, and Country approach. Spend the afternoon enjoying wonderful vocals\, original music &amp\; great wine!&nbsp\; FYI: August 10th is Richy&#39\;s 17th wedding anniversary so let&#39\;s welcome him AND get him out the door by 5:15! &nbsp\;</span></span></span>
LOCATION:3600 Fredericksburg Kerrville\, TX 2.3 miles north of I-10 on Hwy 16
UID:e.1327.1039
SEQUENCE:3
DTSTAMP:20260419T165439Z
URL:https://business.kerrvillechamber.biz/events/details/live-music-at-kerrville-hills-winery-featuring-richy-rhyne-08-10-2013-1039
END:VEVENT

END:VCALENDAR
