BEGIN:VCALENDAR
VERSION:2.0
PRODID:-//ChamberMaster//Event Calendar 2.0//EN
METHOD:PUBLISH
X-PUBLISHED-TTL:P3D
REFRESH-INTERVAL:P3D
CALSCALE:GREGORIAN
BEGIN:VEVENT
DTSTART:20130420T190000Z
DTEND:20130420T220000Z
X-MICROSOFT-CDO-ALLDAYEVENT:FALSE
SUMMARY:Live music featuring Acoustic Jungle @ Kerrville Hills Winery
DESCRIPTION:Live Music Featuring Acoustic Jungle
X-ALT-DESC;FMTTYPE=text/html:Live&nbsp\;Music Featuring Acoustic Jungle
LOCATION:Kerrville Hills Winery 3600 Fredericksburg Rd. Kerrville\, TX 78028
UID:e.1327.649
SEQUENCE:3
DTSTAMP:20260420T003718Z
URL:https://business.kerrvillechamber.biz/events/details/live-music-featuring-acoustic-jungle-kerrville-hills-winery-04-20-2013-649
END:VEVENT

END:VCALENDAR
