BEGIN:VCALENDAR
VERSION:2.0
PRODID:-//ChamberMaster//Event Calendar 2.0//EN
METHOD:PUBLISH
X-PUBLISHED-TTL:P3D
REFRESH-INTERVAL:P3D
CALSCALE:GREGORIAN
BEGIN:VEVENT
DTSTART:20130323T190000Z
DTEND:20130323T220000Z
X-MICROSOFT-CDO-ALLDAYEVENT:FALSE
SUMMARY:Live music featuring Ray Johnston @ Kerrville Hills Winery
DESCRIPTION:Live music featuring Ray Johnston
X-ALT-DESC;FMTTYPE=text/html:Live music featuring Ray Johnston
LOCATION:Kerrville Hills Winery 3600 Fredericksburg Rd. Kerrville\, TX 78028
UID:e.1327.646
SEQUENCE:3
DTSTAMP:20260420T021545Z
URL:https://business.kerrvillechamber.biz/events/details/live-music-featuring-ray-johnston-kerrville-hills-winery-03-23-2013-646
END:VEVENT

END:VCALENDAR
