BEGIN:VCALENDAR
VERSION:2.0
PRODID:-//ChamberMaster//Event Calendar 2.0//EN
METHOD:PUBLISH
X-PUBLISHED-TTL:P3D
REFRESH-INTERVAL:P3D
CALSCALE:GREGORIAN
BEGIN:VEVENT
DTSTART:20130622T190000Z
DTEND:20130622T220000Z
X-MICROSOFT-CDO-ALLDAYEVENT:FALSE
SUMMARY:Live music featuring Victor Andrada @ Kerrville Hills Winery
DESCRIPTION:Live Music Featuring Victor Andrada.  Vocalist/Guitarist\, blends jazz\, blues\, Latin\, swing\, and country for an overall easy listening style.
X-ALT-DESC;FMTTYPE=text/html:Live&nbsp\;Music Featuring Victor Andrada.&nbsp\; Vocalist/Guitarist\, blends jazz\, blues\, Latin\, swing\, and country for an overall easy listening style.
LOCATION:Kerrville Hills Winery 3600 Fredericksburg Rd. Kerrville\, TX 78028
UID:e.1327.650
SEQUENCE:3
DTSTAMP:20260419T213639Z
URL:https://business.kerrvillechamber.biz/events/details/live-music-featuring-victor-andrada-kerrville-hills-winery-06-22-2013-650
END:VEVENT

END:VCALENDAR
