BEGIN:VCALENDAR
VERSION:2.0
PRODID:-//ChamberMaster//Event Calendar 2.0//EN
METHOD:PUBLISH
X-PUBLISHED-TTL:P3D
REFRESH-INTERVAL:P3D
CALSCALE:GREGORIAN
BEGIN:VEVENT
DTSTART:20250816T000000Z
DTEND:20250816T020000Z
X-MICROSOFT-CDO-ALLDAYEVENT:FALSE
SUMMARY:Live Music On Deck at Arcadia Live
DESCRIPTION:ON DECK LIVE MUSIC is back!\n\nJoin us on our Happy State Bank Deck this July25th-September 5th and enjoy happy hour prices on beer\, wine\, and margaritas.\n\nEvery Friday from 7-9pm.\n\nDoors at 6:30pm\, Live Music starts at 7pm\n\nThis FREE community series is generously sponsored by JAM Broadcasting.\n\nOur Line up:\n\nJuly 25th- Boone Holding\n\nAugust 1st- Carlos & Dan\n\nAugust 8th- Aaron LaCombe\n\nAugust 15th- Bill Mahkovtz\n\nAugust 22nd- Grant Wesley Trio\n\nAugust 29th- Mike Kasberg\n\nSeptember 5th- Three of a Kind\n\nFeel free to bring the kids\, dinner\, pets\, and guests! \n\nFor more info\, email boxoffice@thearcadialive.org or call (830)-315-5483
X-ALT-DESC;FMTTYPE=text/html:<div>ON DECK LIVE MUSIC is back!<br />\nJoin us on our Happy State Bank Deck this July25th-September 5th and enjoy happy hour prices on beer\, wine\, and margaritas.</div>\n\n<div>Every Friday from 7-9pm.<br />\nDoors at 6:30pm\, Live Music starts at 7pm</div>\n\n<div>This FREE community series is generously sponsored by JAM Broadcasting.</div>\n\n<div>Our Line up:<br />\nJuly 25th- Boone Holding<br />\nAugust 1st- Carlos &amp\; Dan<br />\nAugust 8th- Aaron LaCombe<br />\nAugust 15th- Bill Mahkovtz<br />\nAugust 22nd- Grant Wesley Trio<br />\nAugust 29th- Mike Kasberg<br />\nSeptember 5th- Three of a Kind</div>\n\n<div>Feel free to bring the kids\, dinner\, pets\, and guests!&nbsp\;</div>\n\n<div>For more info\, email boxoffice@thearcadialive.org or call (830)-315-5483</div>\n
LOCATION:Arcadia Live Theatre 717 Water Street Kerrville TX 78028
UID:e.1327.29195
SEQUENCE:3
DTSTAMP:20260423T213547Z
URL:https://business.kerrvillechamber.biz/events/details/live-music-on-deck-at-arcadia-live-08-15-2025-29195
END:VEVENT

END:VCALENDAR
