BEGIN:VCALENDAR
VERSION:2.0
PRODID:-//ChamberMaster//Event Calendar 2.0//EN
METHOD:PUBLISH
X-PUBLISHED-TTL:P3D
REFRESH-INTERVAL:P3D
CALSCALE:GREGORIAN
BEGIN:VEVENT
DTSTART:20130303T013000Z
DTEND:20130303T033000Z
X-MICROSOFT-CDO-ALLDAYEVENT:FALSE
SUMMARY:Love\, Loss & What I Wore
DESCRIPTION:A play of monologues and ensemble pieces about women\, clothes and memory covering all the important subjects-mothers\, prom dresses\, mothers\, buying bras\, mothers\, hating purses and why we only wear black. Based on the bestselling book by Ilene Beckerman. For additional information please call 830-367-5121 or visit www.hcaf.com\n\n	The Point Indoor Theatre\, Hill Country Arts Foundation\, HWY 39\, Ingram
X-ALT-DESC;FMTTYPE=text/html:<p>\n	A play of monologues and ensemble pieces about women\, clothes and memory covering all the important subjects-mothers\, prom dresses\, mothers\, buying bras\, mothers\, hating purses and why we only wear black. Based on the bestselling book by Ilene Beckerman. For additional information please call 830-367-5121 or visit <a class="external" href="http://www.hcaf.com/" target="_blank">www.hcaf.com</a></p>\n<p>\n	The Point Indoor Theatre\, Hill Country Arts Foundation\, HWY 39\, Ingram</p>\n
LOCATION:
UID:e.1327.510
SEQUENCE:3
DTSTAMP:20260420T003124Z
URL:https://business.kerrvillechamber.biz/events/details/love-loss-what-i-wore-03-02-2013-510
END:VEVENT

END:VCALENDAR
