BEGIN:VCALENDAR
VERSION:2.0
PRODID:-//ChamberMaster//Event Calendar 2.0//EN
METHOD:PUBLISH
X-PUBLISHED-TTL:P3D
REFRESH-INTERVAL:P3D
CALSCALE:GREGORIAN
BEGIN:VEVENT
DTSTART:20130712T213000Z
DTEND:20130712T223000Z
X-MICROSOFT-CDO-ALLDAYEVENT:FALSE
SUMMARY:Luna Mesa Art Gallery and Social Spot Ribbon Cutting
DESCRIPTION:Luna Mesa Art Gallery and Social Spot Ribbon Cutting    \n\n1400 Water Street\n\nFriday\, July 12\, 4:30 pm
X-ALT-DESC;FMTTYPE=text/html:Luna Mesa Art Gallery and Social Spot Ribbon Cutting&nbsp\;&nbsp\;&nbsp\;&nbsp\;<br />\n1400 Water Street<br />\nFriday\, July 12\, 4:30 pm
LOCATION:
UID:e.1327.977
SEQUENCE:3
DTSTAMP:20260419T182052Z
URL:https://business.kerrvillechamber.biz/events/details/luna-mesa-art-gallery-and-social-spot-ribbon-cutting-07-12-2013-977
END:VEVENT

END:VCALENDAR
