BEGIN:VCALENDAR
VERSION:2.0
PRODID:-//ChamberMaster//Event Calendar 2.0//EN
METHOD:PUBLISH
X-PUBLISHED-TTL:P3D
REFRESH-INTERVAL:P3D
CALSCALE:GREGORIAN
BEGIN:VEVENT
DTSTART:20131209T180000Z
DTEND:20131209T190000Z
X-MICROSOFT-CDO-ALLDAYEVENT:FALSE
SUMMARY:Lunch and Learn about LegalShield
DESCRIPTION:Come have lunch on us and learn about LegalShield. Whether you are interested for yourself and your family\, your business or your employees\, you will learn how LegalShield has been protecting Americans for over 40 years. Find out what is  happening with Identity Theft\, the #1 complaint to the FTC for 13 years\, and why LegalShield has the best services available to protect everyone.
X-ALT-DESC;FMTTYPE=text/html:Come have lunch on us and learn about LegalShield. Whether you are interested for yourself and your family\, your business or your employees\, you will learn how LegalShield has been protecting Americans for over 40 years. Find out what is &nbsp\;happening with Identity Theft\, the #1 complaint to the FTC for 13 years\, and why LegalShield has the best services available to protect everyone.
LOCATION:Kerrville Area Chamber of Commerce\, 1700 Sidney Baker\, Kerrville\, TX 78028
UID:e.1327.1635
SEQUENCE:3
DTSTAMP:20260419T115340Z
URL:https://business.kerrvillechamber.biz/events/details/lunch-and-learn-about-legalshield-12-09-2013-1635
END:VEVENT

END:VCALENDAR
