BEGIN:VCALENDAR
VERSION:2.0
PRODID:-//ChamberMaster//Event Calendar 2.0//EN
METHOD:PUBLISH
X-PUBLISHED-TTL:P3D
REFRESH-INTERVAL:P3D
CALSCALE:GREGORIAN
BEGIN:VEVENT
DTSTART:20141114T150000Z
DTEND:20141114T170000Z
X-MICROSOFT-CDO-ALLDAYEVENT:FALSE
SUMMARY:Marketing Seminar Series IV
DESCRIPTION:Marketing Seminar Series IV\, Digital and Social Marketing for Success
X-ALT-DESC;FMTTYPE=text/html:Marketing Seminar Series IV\, Digital and Social Marketing for Success
LOCATION:Kerrville Area Chamber of Commerce\, 1700 Sidney Baker\, Ste. 100
UID:e.1327.4032
SEQUENCE:3
DTSTAMP:20260424T044223Z
URL:https://business.kerrvillechamber.biz/events/details/marketing-seminar-series-iv-11-14-2014-4032
END:VEVENT

END:VCALENDAR
