BEGIN:VCALENDAR
VERSION:2.0
PRODID:-//ChamberMaster//Event Calendar 2.0//EN
METHOD:PUBLISH
X-PUBLISHED-TTL:P3D
REFRESH-INTERVAL:P3D
CALSCALE:GREGORIAN
BEGIN:VEVENT
DTSTART:20130827T161500Z
DTEND:20130827T190000Z
X-MICROSOFT-CDO-ALLDAYEVENT:FALSE
SUMMARY:Meet & Greet with Attorney General Greg Abbott
DESCRIPTION:
X-ALT-DESC;FMTTYPE=text/html:
LOCATION:Buzzie's Bar-B-Q
UID:e.1327.1099
SEQUENCE:3
DTSTAMP:20260419T164748Z
URL:https://business.kerrvillechamber.biz/events/details/meet-greet-with-attorney-general-greg-abbott-08-27-2013-1099
END:VEVENT

END:VCALENDAR
