BEGIN:VCALENDAR
VERSION:2.0
PRODID:-//ChamberMaster//Event Calendar 2.0//EN
METHOD:PUBLISH
X-PUBLISHED-TTL:P3D
REFRESH-INTERVAL:P3D
CALSCALE:GREGORIAN
BEGIN:VEVENT
DTSTART:20131017T233000Z
DTEND:20131018T023000Z
X-MICROSOFT-CDO-ALLDAYEVENT:FALSE
SUMMARY:Meet Republican State Representative Candidate Rob Henneke
DESCRIPTION:Meet Republican State Representative Candidate Rob Henneke\, Cash Bar and Live Music from the Wolfe Sisters\n						\n					\n				\n				\n					 \n			\n		\n	\n\n\n	 \n \n\n\n	\n		\n			\n				Texas Hunt Lodge Owners\, Aaron and Joanie Bulkley along with Davis Chiropractic Owners\, John W. and Kari Davis\, are proud to invite you to a "Meet the Candidate Party" for Republican State Representative Candidate Rob Henneke
X-ALT-DESC;FMTTYPE=text/html:<table align="center" border="0" cellpadding="0" cellspacing="0" style="width:100.0%\;" width="100%">\n	<tbody>\n		<tr>\n			<td style="width:100.0%\;padding:7.5pt 18.75pt 7.5pt 18.75pt\;vertical-align:top\;">\n				<table align="center" border="0" cellpadding="0" cellspacing="0" style="width:100.0%\;" width="100%">\n					<tbody>\n						<tr>\n							<td style="padding:6.0pt 0in 6.0pt 0in\;vertical-align:top\;">\n								<br />\n								&nbsp\;</td>\n						</tr>\n					</tbody>\n				</table>\n				<div style="clear:both\;">\n					&nbsp\;</div>\n				&nbsp\;<br />\n				<table align="center" border="0" cellpadding="0" cellspacing="0" style="width:100.0%\;" width="100%">\n					<tbody>\n						<tr>\n							<td style="padding:6.0pt 0in 6.0pt 0in\;vertical-align:top\;">\n								<span style="font-family:arial\,sans-serif\;"><span style="font-size:16.0pt\;"><a href="http://r20.rs6.net/tn.jsp?e=001av4dvQdJlzResjlWY08WMdkognZh_dZbjEO45sIwwAO57G0oNCXfIn5lPJAB24VQxg9H7x9ABQHQ8xt5OGmPZ4w1c3EwsA1PJlWy0AfVikoSYok1riMdvg==" target="_blank"><span style="text-decoration:none\;text-underline:none\;"><span style="color:windowtext\;">Meet Republican State Representative Candidate Rob Henneke\, Cash Bar and Live Music from the Wolfe Sisters</span></span></a></span></span></td>\n						</tr>\n					</tbody>\n				</table>\n				<div style="clear:both\;">\n					&nbsp\;</div>\n			</td>\n		</tr>\n	</tbody>\n</table>\n<div style="clear:both\;">\n	&nbsp\;</div>\n&nbsp\;<br />\n<table align="center" border="0" cellpadding="0" cellspacing="0" style="width:100.0%\;" width="100%">\n	<tbody>\n		<tr>\n			<td style="padding:5.25pt 7.5pt 5.25pt 7.5pt\;vertical-align:top\;">\n				<span style="color:#717171\;"><span style="font-family:arial\,sans-serif\;"><a href="http://r20.rs6.net/tn.jsp?e=001av4dvQdJlzResjlWY08WMdkognZh_dZbjEO45sIwwAO57G0oNCXfIn5lPJAB24VQxg9H7x9ABQHQ8xt5OGmPZ4w1c3EwsA1PJlWy0AfVikoSYok1riMdvg==" target="_blank"><span style="text-decoration:none\;text-underline:none\;"><span style="color:#717171\;">Texas Hunt Lodge Owners\, Aaron and Joanie Bulkley along with Davis Chiropractic Owners\, John W. and Kari Davis\, are proud to invite you to a &quot\;Meet the Candidate Party&quot\; for Republican State Representative Candidate Rob Henneke</span></span></a></span></span></td>\n		</tr>\n	</tbody>\n</table>\n<div style="clear:both\;">\n	&nbsp\;</div>\n
LOCATION:Roddy Tree Ranch 830 Hwy 39 Ingram\, TX 78025
UID:e.1327.1357
SEQUENCE:3
DTSTAMP:20260419T132653Z
URL:https://business.kerrvillechamber.biz/events/details/meet-republican-state-representative-candidate-rob-henneke-10-17-2013-1357
END:VEVENT

END:VCALENDAR
