BEGIN:VCALENDAR
VERSION:2.0
PRODID:-//ChamberMaster//Event Calendar 2.0//EN
METHOD:PUBLISH
X-PUBLISHED-TTL:P3D
REFRESH-INTERVAL:P3D
CALSCALE:GREGORIAN
BEGIN:VEVENT
DTSTART:20130307T233000Z
DTEND:20130308T020000Z
X-MICROSOFT-CDO-ALLDAYEVENT:FALSE
SUMMARY:Merlot's Merry Masters Paint Along Party
DESCRIPTION:Wear old clothes or bring a smock and don't worry if you can't paint... this is about the fun!\n\n	This all-inclusive\, fun-filled evening includes:\n\n	Food and Wine from Grape Juice\n\n	Art Supplies and Instructions from the KACC\n\n	Just wear your paint clothes and get ready to have fun!\n\n	Call the KACC for Reservations TODAY! 895-2911
X-ALT-DESC;FMTTYPE=text/html:<p>\n	Wear old clothes or bring a smock and don&#39\;t worry if you can&#39\;t paint... this is about the fun!<br />\n	This all-inclusive\, fun-filled evening includes:<br />\n	Food and Wine from Grape Juice<br />\n	Art Supplies and Instructions from the KACC<br />\n	Just wear your paint clothes and get ready to have fun!<br />\n	Call the KACC for Reservations TODAY! 895-2911</p>\n
LOCATION:
UID:e.1327.637
SEQUENCE:3
DTSTAMP:20260420T021422Z
URL:https://business.kerrvillechamber.biz/events/details/merlot-s-merry-masters-paint-along-party-03-07-2013-637
END:VEVENT

END:VCALENDAR
