BEGIN:VCALENDAR
VERSION:2.0
PRODID:-//ChamberMaster//Event Calendar 2.0//EN
METHOD:PUBLISH
X-PUBLISHED-TTL:P3D
REFRESH-INTERVAL:P3D
CALSCALE:GREGORIAN
BEGIN:VEVENT
DTSTART:20130910T163000Z
DTEND:20130910T174500Z
X-MICROSOFT-CDO-ALLDAYEVENT:FALSE
SUMMARY:'Monarchs & Milkweeds' for 2nd Tuesday Lunch & Learn
DESCRIPTION:Learn about migration and the diminishing number of Texas' state insect\, the Monarch butterfly. The program is led by butterfly enthusiast and educator Cathy Downs\, who will also talk about the importance of native and non-systemically treated milkweed\, the mainstay of a Monarch's diet. Downs raises Monarch caterpillars for educational purposes and propagates their preferred food source\, native milkweeds. She chairs the "Bring Back the Monarchs to Texas" program\, a habitat conservation partnership between the Native Plant Society of Texas and Monarch Watch.
X-ALT-DESC;FMTTYPE=text/html:<p class="FlushLeft">\n	Learn about migration and the diminishing number of Texas&rsquo\; state insect\, the Monarch butterfly. The program is led by butterfly enthusiast and educator Cathy Downs\, who will also talk about the importance of native and non-systemically treated milkweed\, the mainstay of a Monarch&rsquo\;s diet. Downs&nbsp\;raises Monarch caterpillars for educational purposes and propagates their preferred food source\, native milkweeds. She chairs the &ldquo\;Bring Back the Monarchs to Texas&rdquo\; program\, a habitat conservation partnership between the Native Plant Society of Texas and Monarch Watch.<o:p></o:p></p>\n
LOCATION:Riverside Nature Center\, 150 Francisco Lemos St.\, Kerrville
UID:e.1327.1087
SEQUENCE:3
DTSTAMP:20260419T151313Z
URL:https://business.kerrvillechamber.biz/events/details/monarchs-milkweeds-for-2nd-tuesday-lunch-learn-09-10-2013-1087
END:VEVENT

END:VCALENDAR
