BEGIN:VCALENDAR
VERSION:2.0
PRODID:-//ChamberMaster//Event Calendar 2.0//EN
METHOD:PUBLISH
X-PUBLISHED-TTL:P3D
REFRESH-INTERVAL:P3D
CALSCALE:GREGORIAN
BEGIN:VEVENT
DTSTART:20130503T140000Z
DTEND:20130503T150000Z
X-MICROSOFT-CDO-ALLDAYEVENT:FALSE
SUMMARY:Monthly Fauna Census at Riverside Nature Center
DESCRIPTION:Walk the property with birders and naturalists to record the monthly fauna census. No experience necessary. Takes about an hour. Group leader is master birder Thomas Collins.
X-ALT-DESC;FMTTYPE=text/html:<h1 style="margin-top:3.0pt\;margin-right:0in\;margin-bottom:6.0pt\;margin-left:\n.5in\;mso-add-space:auto\;mso-pagination:none">\n	<span lang="X-NONE" style="font-size:10.0pt\;mso-bidi-font-size:18.0pt\;line-height:118%\;font-family:\n&quot\;Gill Sans MT&quot\;\,&quot\;sans-serif&quot\;\;font-weight:normal">Walk the property with birders and naturalists to record the monthly fauna census. No experience necessary. Takes about an hour.&nbsp\;Group leader is master birder Thomas Collins.</span></h1>\n
LOCATION:Riverside Nature Center\, 150 Francisco Lemos St
UID:e.1327.923
SEQUENCE:3
DTSTAMP:20260419T213459Z
URL:https://business.kerrvillechamber.biz/events/details/monthly-fauna-census-at-riverside-nature-center-05-03-2013-923
END:VEVENT

END:VCALENDAR
