BEGIN:VCALENDAR
VERSION:2.0
PRODID:-//ChamberMaster//Event Calendar 2.0//EN
METHOD:PUBLISH
X-PUBLISHED-TTL:P3D
REFRESH-INTERVAL:P3D
CALSCALE:GREGORIAN
BEGIN:VEVENT
DTSTART:20130326T220000Z
DTEND:20130327T030000Z
X-MICROSOFT-CDO-ALLDAYEVENT:FALSE
SUMMARY:Museum of Western Art Show and Give Back Night
DESCRIPTION:5% of your dine in proceeds will benefit the Museum of Western Art. So come on by Grape Juice for Dinner or Drinks and show your support!
X-ALT-DESC;FMTTYPE=text/html:5% of your dine in proceeds will benefit the Museum of Western Art. So come on by Grape Juice for Dinner or Drinks and show your support!
LOCATION:Grape Juice
UID:e.1327.623
SEQUENCE:3
DTSTAMP:20260420T004256Z
URL:https://business.kerrvillechamber.biz/events/details/museum-of-western-art-show-and-give-back-night-03-26-2013-623
END:VEVENT

END:VCALENDAR
