BEGIN:VCALENDAR
VERSION:2.0
PRODID:-//ChamberMaster//Event Calendar 2.0//EN
METHOD:PUBLISH
X-PUBLISHED-TTL:P3D
REFRESH-INTERVAL:P3D
CALSCALE:GREGORIAN
BEGIN:VEVENT
DTSTART:20131020T000000Z
DTEND:20131020T000000Z
X-MICROSOFT-CDO-ALLDAYEVENT:FALSE
SUMMARY:music in the shadows\, Concert for a Cure
DESCRIPTION:Music in the Shadows is a Concert for a Cure.   Featuring the 1926 silent film PHANTOM OF THE OPERA with organ accompaniment by Tim Wilborn on the First Presbyterian Church 3000 pipe organ.  Concert includes Toccata and Fugue by Bach on the organ\, and Night on Bald Mountin with the Symphonh of the Hills Brass Quartet.  Open to the public. "FREE WILL OFFERING\; 25% to the Missions of First Presbyterian\, Kerrville and 75% to the MS Foundation.  \n\n\n\ncontact Tim Wilborn  830-257-3310x 237   830-257-3310
X-ALT-DESC;FMTTYPE=text/html:Music in the Shadows is a Concert for a Cure.&nbsp\;&nbsp\; Featuring the 1926 silent film PHANTOM OF THE OPERA with organ accompaniment by Tim Wilborn on the First Presbyterian Church 3000 pipe organ.&nbsp\; Concert includes Toccata and Fugue by Bach on the organ\, and Night on Bald Mountin with the Symphonh of the Hills Brass Quartet.&nbsp\;&nbsp\;Open to&nbsp\;the&nbsp\;public.&nbsp\;&quot\;FREE WILL OFFERING\; 25% to the Missions of First Presbyterian\, Kerrville and 75% to the MS Foundation.&nbsp\;&nbsp\;<br />\n<br />\ncontact Tim Wilborn&nbsp\; 830-257-3310x 237&nbsp\;&nbsp\; 830-257-3310
LOCATION:first presbyterian church\, 800 Jefferson St.\, Kerrville\, Texas 7028
UID:e.1327.1333
SEQUENCE:3
DTSTAMP:20260419T133636Z
URL:https://business.kerrvillechamber.biz/events/details/music-in-the-shadows-concert-for-a-cure-10-19-2013-1333
END:VEVENT

END:VCALENDAR
