BEGIN:VCALENDAR
VERSION:2.0
PRODID:-//ChamberMaster//Event Calendar 2.0//EN
METHOD:PUBLISH
X-PUBLISHED-TTL:P3D
REFRESH-INTERVAL:P3D
CALSCALE:GREGORIAN
BEGIN:VEVENT
DTSTART:20130924T140000Z
DTEND:20130924T220000Z
X-MICROSOFT-CDO-ALLDAYEVENT:FALSE
SUMMARY:National Voter Registration Day
DESCRIPTION:The League of Women Voters is sponsosring a number of events throughout the Kerrville Area to register voters.  Because voter ID laws have recently changed\, you may need to change your address or name on your voter registration card to match your official photo ID.  Names must match!  Come let us help you complete a new registration form at any number of locations starting as early as 9am and ending at 5pm.
X-ALT-DESC;FMTTYPE=text/html:The League of Women Voters is sponsosring a number of events throughout the Kerrville Area to register voters.&nbsp\; Because voter ID laws have recently changed\, you may need to change your address or name on your voter registration card to match your official photo ID.&nbsp\; Names must match!&nbsp\; Come let us help you complete a new registration form at any number of locations starting as early as 9am and ending at 5pm.
LOCATION:Tivy High School during class for students Center for Fitness-1407 Water Street 9am - 11am Kroc Center-201 Holdsworth Dr .9am - 12N Hilltop Living Facility-1400 Hilltop 10am - 12N Plaza on the River - 135 Plaza10am-12N Peterson Regional Medical Center Cafeteria-551 Hill Country Dr. 11am - 1pm Schreiner University-2100 Memorial Blvd.11am - 1pm Alpine Living Facility-746 Alpine Drive 3pm - 5pm Edgewater Living Facilty-1213 Water St. 3pm - 5pm
UID:e.1327.1122
SEQUENCE:3
DTSTAMP:20260419T151350Z
URL:https://business.kerrvillechamber.biz/events/details/national-voter-registration-day-09-24-2013-1122
END:VEVENT

END:VCALENDAR
