BEGIN:VCALENDAR
VERSION:2.0
PRODID:-//ChamberMaster//Event Calendar 2.0//EN
METHOD:PUBLISH
X-PUBLISHED-TTL:P3D
REFRESH-INTERVAL:P3D
CALSCALE:GREGORIAN
BEGIN:VEVENT
DTSTART:20130919T163000Z
DTEND:20130919T183000Z
X-MICROSOFT-CDO-ALLDAYEVENT:FALSE
SUMMARY:Native Healing Garden at Riverside Nature Center
DESCRIPTION:Study the medicinal plant of the month\, then plant it and tend the healing garden. Led by certified naturalists\, Amy Coward\, R.N.\, and Sally Garrett\, M.S. Bring your own utensils and a healthy dish to share for the potluck meal.
X-ALT-DESC;FMTTYPE=text/html:<p class="MsoNormal">\n	Study the medicinal plant of the month\, then plant it and tend the healing garden. Led by certified naturalists\, Amy Coward\, R.N.\, and Sally Garrett\, M.S. Bring your own utensils and a healthy dish to share for the potluck meal.</p>\n
LOCATION:150 Francisco Lemos St.\, Kerrville
UID:e.1327.1086
SEQUENCE:3
DTSTAMP:20260419T151621Z
URL:https://business.kerrvillechamber.biz/events/details/native-healing-garden-at-riverside-nature-center-09-19-2013-1086
END:VEVENT

END:VCALENDAR
