BEGIN:VCALENDAR
VERSION:2.0
PRODID:-//ChamberMaster//Event Calendar 2.0//EN
METHOD:PUBLISH
X-PUBLISHED-TTL:P3D
REFRESH-INTERVAL:P3D
CALSCALE:GREGORIAN
BEGIN:VEVENT
DTSTART:20130222T073000Z
DTEND:20130222T190000Z
X-MICROSOFT-CDO-ALLDAYEVENT:FALSE
SUMMARY:Nature Blind 1\,000 Tree Celebration
DESCRIPTION:1\,000 TreeBlinds Made Celebration\n\nLunch will be provided at 11 am
X-ALT-DESC;FMTTYPE=text/html:1\,000 TreeBlinds Made Celebration<br />\nLunch will be provided at 11 am<br />\n
LOCATION:2800 Blacksmith Ln
UID:e.1327.618
SEQUENCE:3
DTSTAMP:20260420T021037Z
URL:https://business.kerrvillechamber.biz/events/details/nature-blind-1-000-tree-celebration-02-22-2013-618
END:VEVENT

END:VCALENDAR
