BEGIN:VCALENDAR
VERSION:2.0
PRODID:-//ChamberMaster//Event Calendar 2.0//EN
METHOD:PUBLISH
X-PUBLISHED-TTL:P3D
REFRESH-INTERVAL:P3D
CALSCALE:GREGORIAN
BEGIN:VEVENT
DTSTART:20251004T160000Z
DTEND:20251004T180000Z
X-MICROSOFT-CDO-ALLDAYEVENT:FALSE
SUMMARY:Nature Talks with Laura Levy: Fungi: Neither Plant Nor Animal
DESCRIPTION:Join Us for This Month's Saturday Nature Talk\n\nOn October 4th at 11 AM\, Laura will delve into the captivating realm of fungi. This engaging event will be held at The Art House Gallery & Caf .
X-ALT-DESC;FMTTYPE=text/html:<p><span style="color:rgba(0\,0\,0\,var(--O42jJQ\,1))">Join Us for This Month&rsquo\;s Saturday Nature Talk</span></p>\n\n<p><span style="color:rgba(0\,0\,0\,var(--O42jJQ\,1))">On October 4th at 11 AM\, Laura will delve into the captivating realm of fungi. This engaging event will be held at The Art House Gallery &amp\; Caf&eacute\;.</span></p>\n
LOCATION:River Oaks Courts The Art House Caf 14349 Highway 16 N Medina\, TX 78055
UID:e.1327.29227
SEQUENCE:3
DTSTAMP:20260423T164949Z
URL:https://business.kerrvillechamber.biz/events/details/nature-talks-with-laura-levy-fungi-neither-plant-nor-animal-29227
END:VEVENT

END:VCALENDAR
